BEGIN:VCALENDAR
VERSION:2.0
PRODID:-//Inklusive WG Bremen - ECPv6.0.10//NONSGML v1.0//EN
CALSCALE:GREGORIAN
METHOD:PUBLISH
X-ORIGINAL-URL:https://inklusive-wg-bremen.de
X-WR-CALDESC:Veranstaltungen für Inklusive WG Bremen
REFRESH-INTERVAL;VALUE=DURATION:PT1H
X-Robots-Tag:noindex
X-PUBLISHED-TTL:PT1H
BEGIN:VTIMEZONE
TZID:Europe/Berlin
BEGIN:DAYLIGHT
TZOFFSETFROM:+0100
TZOFFSETTO:+0200
TZNAME:CEST
DTSTART:20230326T010000
END:DAYLIGHT
BEGIN:STANDARD
TZOFFSETFROM:+0200
TZOFFSETTO:+0100
TZNAME:CET
DTSTART:20231029T010000
END:STANDARD
END:VTIMEZONE
BEGIN:VEVENT
DTSTART;TZID=Europe/Berlin:20230323T170000
DTEND;TZID=Europe/Berlin:20230323T203000
DTSTAMP:20260420T200022
CREATED:20230313T122836Z
LAST-MODIFIED:20230313T124552Z
UID:2013-1679590800-1679603400@inklusive-wg-bremen.de
SUMMARY:Einladung für HfK-Student:innen
DESCRIPTION:Du bist Student:in an der HfK Bremen und bist offen für gemeinschaftliches Wohnen? \nNur wenige Minuten entfernt vom Speicher XI befindet sich eine inklusive Wohngemeinschaft\, die gerade Mitbewohner:innen sucht. Vier junge Leute mit und vier ohne Behinderung wohnen dort gemeinsam in einer Loft-artigen Wohnung mit Blick auf die Weser. Als Student:in übernimmt man als Ehrenamtliche:r Aufgaben und wohnt dafür mietfrei. Einmal pro Woche und ein Wochenende im Monat hat man im Tandem Dienst: Man kocht zusammen\, kauft ein\, unternimmt etwas und unterstützt die Bewohner mit Behinderung in Alltagsangelegenheiten. \nWenn Du mehr über das Zusammenleben erfahren möchtest\, dann komm zu einem Probe-Tandem-Dienst in die WG. Wir kaufen ein\, kochen zusammen was schönes und essen dann gemeinsam. \nDonnerstag\, 23.03.23 \n17:00 Uhr \nBitte melde Dich an\, dann bekommst Du eine Bestätigung. \nAnsprechpartnerin für Dich ist Sasha\, die auch an der HfK studiert.
URL:https://inklusive-wg-bremen.de/event/hfk/
LOCATION:Inklusive WG im Blauhaus\, Ehrenfelsstraße 7\, Bremen\, 28217\, Deutschland
ATTACH;FMTTYPE=image/jpeg:https://inklusive-wg-bremen.de/wp-content/uploads/2022/12/DSCF6486-Bearbeitet_c_Daniela_Buchholz_1920.jpg
ORGANIZER;CN="Inklusive%20WG%20-%20HfK":MAILTO:info@inklusive-wg-bremen.de
END:VEVENT
END:VCALENDAR